BEGIN:VCALENDAR
VERSION:2.0
PRODID:-//TYPO3/NONSGML News system (news)//EN
BEGIN:VEVENT
TZID:Central Europe Standard Time
UID:news-62939@musik.kmst.tu-dortmund.de
DTSTAMP:20260420T091220Z

DTSTART:20260528T190000
DTEND:20260528T210000


LOCATION:Dom zu Helsinki, Unioninkatu 29, 00170 Helsinki, Finnland

DESCRIPTION:https://musik.kmst.tu-dortmund.de/veranstaltungsdetail/doppelkonzert-mozart-requiem-1-62939/
SUMMARY:Mozart: Requiem in Helsinki
END:VEVENT
END:VCALENDAR
