BEGIN:VCALENDAR
VERSION:2.0
PRODID:-//TYPO3/NONSGML News system (news)//EN
BEGIN:VEVENT
TZID:Central Europe Standard Time
UID:news-62942@musik.kmst.tu-dortmund.de
DTSTAMP:20260420T091220Z

DTSTART:20260612T170000
DTEND:20260612T190000


LOCATION:Internationales Begegnungszentrum (IBZ) der TU Dortmund, Emil-Figge-Straße 61, 44227 Dortmund

DESCRIPTION:https://musik.kmst.tu-dortmund.de/veranstaltungsdetail/john-dowland-co-ein-werkstattkonzert-2-62942/
SUMMARY:John Dowland &amp;amp; Co. – ein Werkstattkonzert
END:VEVENT
END:VCALENDAR
