BEGIN:VCALENDAR
VERSION:2.0
PRODID:-//TYPO3/NONSGML News system (news)//EN
BEGIN:VEVENT
TZID:Central Europe Standard Time
UID:news-62941@musik.kmst.tu-dortmund.de
DTSTAMP:20260420T091220Z

DTSTART:20260611T183000
DTEND:20260611T200000


LOCATION:Internationales Begegnungszentrum (IBZ) der TU Dortmund, Emil-Figge-Straße 61, 44227 Dortmund

DESCRIPTION:https://musik.kmst.tu-dortmund.de/veranstaltungsdetail/like-as-the-lute-delights-songs-aus-england-2-62941/
SUMMARY:„Like as the Lute delights“ – Songs aus England
END:VEVENT
END:VCALENDAR
