BEGIN:VCALENDAR
VERSION:2.0
PRODID:-//TYPO3/NONSGML News system (news)//EN
BEGIN:VEVENT
TZID:Central Europe Standard Time
UID:news-62938@musik.kmst.tu-dortmund.de
DTSTAMP:20260420T091220Z

DTSTART:20260510T120000
DTEND:20260510T180000


LOCATION:Südseite der Reinoldikirche

DESCRIPTION:https://musik.kmst.tu-dortmund.de/veranstaltungsdetail/tu-dortmund-bei-dortbunt-1-1-1-1-62938/
SUMMARY:TU Dortmund bei Dortbunt
END:VEVENT
END:VCALENDAR
